BEGIN:VCALENDAR
PRODID:-//eluceo/ical//2.0/EN
VERSION:2.0
CALSCALE:GREGORIAN
BEGIN:VEVENT
UID:c66e4a751b44dde641f75d3177deac72
DTSTAMP:20260421T140144Z
SUMMARY:Level 4 & 5 (Ages 5+) - American Red Cross Swimming Lessons
DESCRIPTION:Shaw JCC of Akron\nJCC Calendar\nhttps://shawjcc.org/jcccalenda
 r/level-4-5-ages-5-american-red-cross-swimming-lessons\n\nYour child will 
 learn to refine their breaststroke\, alternative breathing and sidestroke 
 in addition to new skills.\nCost: $43 M/$65 G\n\n603.458
DTSTART;TZID=America/New_York:20170916T103000
DTEND;TZID=America/New_York:20170916T111500
END:VEVENT
END:VCALENDAR
