BEGIN:VCALENDAR
PRODID:-//eluceo/ical//2.0/EN
VERSION:2.0
CALSCALE:GREGORIAN
BEGIN:VEVENT
UID:983b6250a63da6cf75f7c6a372334dba
DTSTAMP:20260423T171027Z
SUMMARY:Level 4 & 5 (Ages 5+) - American Red Cross Swimming Lessons
DESCRIPTION:Shaw JCC of Akron\nJCC Calendar\nhttps://shawjcc.org/jcccalenda
 r/level-4-5-ages-5-american-red-cross-swimming-lessons-09152018\n\nChildre
 n must have gone through level 3 or be able to swim unassisted. Skills tau
 ght in Levels 4 & 5 include sidestroke\, breaststroke\, butterfly\, treadi
 ng\, turns\, and endurance swimming. Your child will learn to refine their
  breaststroke\, alternate breathing and sidestroke in addition to new skil
 ls.\n\nSaturdays\, Sept. 22-Nov. 10 \n603.266
DTSTART;TZID=America/New_York:20180922T103000
DTEND;TZID=America/New_York:20180922T111500
END:VEVENT
END:VCALENDAR
