BEGIN:VCALENDAR
PRODID:-//eluceo/ical//2.0/EN
VERSION:2.0
CALSCALE:GREGORIAN
BEGIN:VEVENT
UID:9e579de1fc7abe9631aef5cbd28744a7
DTSTAMP:20260425T124741Z
SUMMARY:Level 4 Swim Lessons (ages 5+)
DESCRIPTION:Shaw JCC of Akron\nJCC Calendar\nhttps://shawjcc.org/jcccalenda
 r/level-4-swim-lessons-ages-5\n\nTuesdays & Thursdays Oct. 25-Nov. 17 5:15
 -6 pm 603.443
DTSTART;TZID=America/New_York:20161027T171500
DTEND;TZID=America/New_York:20161027T180000
END:VEVENT
END:VCALENDAR
