BEGIN:VCALENDAR
PRODID:-//eluceo/ical//2.0/EN
VERSION:2.0
CALSCALE:GREGORIAN
BEGIN:VEVENT
UID:12c4205610490eba9597e2be99c81800
DTSTAMP:20260425T220918Z
SUMMARY:Level 4 Swim Lessons (ages 5+)
DESCRIPTION:Shaw JCC of Akron\nJCC Calendar\nhttps://shawjcc.org/jcccalenda
 r/level-4-swim-lessons-ages-5-603447\n\nYour child will learn to refine th
 eir breaststroke\, alternate breathing and sidestroke in addition to new s
 kills.\n\nCost: $40 M/$60 G\n\nCall 330-867-7850 or stop by the desk to re
 gister! 603.447
DTSTART;TZID=America/New_York:20170107T102500
DTEND;TZID=America/New_York:20170107T111000
END:VEVENT
END:VCALENDAR
