BEGIN:VCALENDAR
PRODID:-//eluceo/ical//2.0/EN
VERSION:2.0
CALSCALE:GREGORIAN
BEGIN:VEVENT
UID:14d324da980a5b52d145af0218a67afb
DTSTAMP:20260423T130357Z
SUMMARY:Level 4 & 5 American Red Cross Swim Lessons
DESCRIPTION:Shaw JCC of Akron\nJCC Calendar\nhttps://shawjcc.org/jcccalenda
 r/levels-4-5-301586\n\nLEVELS 4 & 5 Children must have gone through level 
 3 or be able to swim unassisted. Skills taught in Levels 4 & 5 include sid
 estroke\, breaststroke\, butterfly\, treading\, turns\, and endurance swim
 ming. Your child will learn to refine their breaststroke\, alternate breat
 hing and sidestroke in addition to new skills.Â \n\n603.252Â Â Â Â Â Â Â 
 Â  Cost: $43 M/$65 G Mar. 25-Apr. 17Â Â Â Â Â Â Â Â Â  Mondays & Wednesday
 sÂ  6:30-7:15 p.m.Â \n\n603.254Â Â Â Â Â Â Â Â  Cost: $43 M/$65 G Mar. 9-A
 pr. 27Â Â...
DTSTART;TZID=America/New_York:20190325T183000
DTEND;TZID=America/New_York:20190325T191500
END:VEVENT
END:VCALENDAR
