BEGIN:VCALENDAR
PRODID:-//eluceo/ical//2.0/EN
VERSION:2.0
CALSCALE:GREGORIAN
BEGIN:VEVENT
UID:c9ae2139478c8370dfbad5ff7f34450a
DTSTAMP:20260422T063719Z
SUMMARY:Levels 4 & 5 American Red Cross Swim Lessons
DESCRIPTION:Shaw JCC of Akron\nJCC Calendar\nhttps://shawjcc.org/jcccalenda
 r/levels-4-5-american-red-cross-swim-lessons-june102019\n\nChildren must h
 ave gone through level 3 or be able to swim unassisted. Skills taught in L
 evels 4 & 5 include sidestroke\, breaststroke\, butterfly\, treading\, tur
 ns\, and endurance swimming. Your child will learn to refine their breasts
 troke\, alternate breathing and sidestroke in addition to new skills.\n\n6
 03.256\n\nCost: $43 Member/$65 Guest\n\nJun. 10 - Jul. 3 Mondays & Wednesd
 ays 6:30-7:15 p.m.
DTSTART;TZID=America/New_York:20190610T183000
DTEND;TZID=America/New_York:20190610T191500
END:VEVENT
END:VCALENDAR
