BEGIN:VCALENDAR
PRODID:-//eluceo/ical//2.0/EN
VERSION:2.0
CALSCALE:GREGORIAN
BEGIN:VEVENT
UID:6e95801ef10a0b1be8bc46a74cac8c55
DTSTAMP:20260424T180010Z
SUMMARY:Levels 4 & 5 American Red Cross Swim Lessons
DESCRIPTION:Shaw JCC of Akron\nJCC Calendar\nhttps://shawjcc.org/jcccalenda
 r/levels-4-5-american-red-cross-swim-lessons-june172019\n\nChildren must h
 ave gone through level 3 or be able to swim unassisted. Skills taught in L
 evels 4 & 5 include sidestroke\, breaststroke\, butterfly\, treading\, tur
 ns\, and endurance swimming. Your child will learn to refine their breasts
 troke\, alternate breathing and sidestroke in addition to new skills.\n\n6
 03.259\n\nCost: $43 Member/$65 Guest\n\nJun. 17 - 27 Mondays\, Tuesdays\, 
 Wednesday\, & Thursdays 9-9:45 a.m. \n\n 
DTSTART;TZID=America/New_York:20190617T090000
DTEND;TZID=America/New_York:20190617T094500
END:VEVENT
END:VCALENDAR
