BEGIN:VCALENDAR
PRODID:-//eluceo/ical//2.0/EN
VERSION:2.0
CALSCALE:GREGORIAN
BEGIN:VEVENT
UID:9ef9b7f6d373ac30b3a84104e5f2ca10
DTSTAMP:20260421T142727Z
SUMMARY:Levels 4 & 5 American Red Cross Swim Lessons
DESCRIPTION:Shaw JCC of Akron\nJCC Calendar\nhttps://shawjcc.org/jcccalenda
 r/levels-4-5-american-red-cross-swim-lessons-may112019\n\nChildren must ha
 ve gone through level 3 or be able to swim unassisted. Skills taught in Le
 vels 4 & 5 include sidestroke\, breaststroke\, butterfly\, treading\, turn
 s\, and endurance swimming. Your child will learn to refine their breastst
 roke\, alternate breathing and sidestroke in addition to new skills.\n\n60
 3.257 \n\nCost: $43 Member/$65 Guest\n\nMay. 11 - Jun. 29 Saturdays 10:30
 -11:15 a.m.
DTSTART;TZID=America/New_York:20190511T103000
DTEND;TZID=America/New_York:20190511T111500
END:VEVENT
END:VCALENDAR
