BEGIN:VCALENDAR
PRODID:-//eluceo/ical//2.0/EN
VERSION:2.0
CALSCALE:GREGORIAN
BEGIN:VEVENT
UID:255476536078fea72432b805e1bc378c
DTSTAMP:20260421T032801Z
SUMMARY:Levels 4 & 5 American Red Cross Swim Lessons
DESCRIPTION:Shaw JCC of Akron\nJCC Calendar\nhttps://shawjcc.org/jcccalenda
 r/levels-4-5-american-red-cross-swim-lessonsfebmonwed-337758\n\nThis class
  is for swimmers who have completed LEVEL 3 or are able to swim unassisted
 . \n\nSwimmers will learn how to:\n\n\nSidestroke\nTreading\nAlternate br
 eathing\nEndurance swimming\nRefined breastroke\nButterfly \nTurns\n\n\nM
 on. & Wed.\, Feb. 3-26\, 5-5:30 p.m.\n\nCost: $50/M $75/G\n\n603.267
DTSTART;TZID=America/New_York:20200203T183000
DTEND;TZID=America/New_York:20200203T191500
END:VEVENT
END:VCALENDAR
