BEGIN:VCALENDAR
PRODID:-//eluceo/ical//2.0/EN
VERSION:2.0
CALSCALE:GREGORIAN
BEGIN:VEVENT
UID:5ac96e2f7b791bfd5fdbec63353c7196
DTSTAMP:20260420T152634Z
SUMMARY:Levels 4 & 5 American Red Cross Swim Lessons
DESCRIPTION:Shaw JCC of Akron\nJCC Calendar\nhttps://shawjcc.org/jcccalenda
 r/levels-4-5-american-red-cross-swim-lessonsnov2-325678\n\nChildren must h
 ave gone through level 3 or be able to swim unassisted. Skills taught in L
 evels 4 & 5 include sidestroke\, breaststroke\, butterfly\, treading\, tur
 ns\, and endurance swimming. Your child will learn to refine their breasts
 troke\, alternate breathing and sidestroke in addition to new skills.\n\nC
 ost: $45 M/ $65 G\n\n603.268\n\nSaturdays  Nov. 2-Dec. 21\, 11-11:45 a.m.
  
DTSTART;TZID=America/New_York:20191102T110000
DTEND;TZID=America/New_York:20191102T114500
END:VEVENT
END:VCALENDAR
