BEGIN:VCALENDAR
PRODID:-//eluceo/ical//2.0/EN
VERSION:2.0
CALSCALE:GREGORIAN
BEGIN:VEVENT
UID:637a06b475fcbaba80aaa61af0ae12b2
DTSTAMP:20260421T120249Z
SUMMARY:Lifeguard Training (ages 15+)
DESCRIPTION:Shaw JCC of Akron\nJCC Calendar\nhttps://shawjcc.org/jcccalenda
 r/lifeguard-training-ages-15-july2017\n\nMonday-Friday 9 a.m.-3 p.m. July 
 17-21 (1 week) 603.901\nIf you’re looking for a great summer job or a ch
 allenging career that's in demand\, the American Red\nCross Lifeguarding p
 rogram is the best place to start. Lifeguarding lets you work as part of a
  team to help\npeople safely enjoy the water. You could even save a life! 
 Learning is fun and easy. Through videos\, group\ndiscussion and hands-on 
 practice\, you'll learn rescue skills for use in the water and on land\, f
 irst aid\nand profession...
DTSTART;TZID=America/New_York:20170717T090000
DTEND;TZID=America/New_York:20170717T150000
END:VEVENT
END:VCALENDAR
