BEGIN:VCALENDAR
PRODID:-//eluceo/ical//2.0/EN
VERSION:2.0
CALSCALE:GREGORIAN
BEGIN:VEVENT
UID:1f977b74e014dc74d5d3ac746562f80d
DTSTAMP:20260420T164059Z
SUMMARY:Lippman School/ECE Winter Bash
DESCRIPTION:Shaw JCC of Akron\nJCC Calendar\nhttps://shawjcc.org/jcccalenda
 r/lippman-school-ece-winter-bash-318607\n\nPlease join us for The Lippman 
 School/ECE Winter Bash!\n\nDate: Saturday\, January 25\, 2020\n\nTime: 7:0
 0 PM-10:00 PM\n\nMore information will be coming
DTSTART;TZID=America/New_York:20200125T190000
DTEND;TZID=America/New_York:20200125T230000
END:VEVENT
END:VCALENDAR
