BEGIN:VCALENDAR
PRODID:-//eluceo/ical//2.0/EN
VERSION:2.0
CALSCALE:GREGORIAN
BEGIN:VEVENT
UID:a914a65421eab206d7982ea57af99fa8
DTSTAMP:20260421T102100Z
SUMMARY:Lippman School Play
DESCRIPTION:Shaw JCC of Akron\nJCC Calendar\nhttps://shawjcc.org/jcccalenda
 r/lippman-school-play-383989\n\nSchool Play
DTSTART;TZID=America/New_York:20220330T130000
DTEND;TZID=America/New_York:20220330T153000
END:VEVENT
END:VCALENDAR
