BEGIN:VCALENDAR
PRODID:-//eluceo/ical//2.0/EN
VERSION:2.0
CALSCALE:GREGORIAN
BEGIN:VEVENT
UID:a9cf4149de04317aecad51346d2fb1cf
DTSTAMP:20260425T004456Z
SUMMARY:Lunch Bunch
DESCRIPTION:Shaw JCC of Akron\nJCC Calendar\nhttps://shawjcc.org/jcccalenda
 r/lunch-bunch-10092018\n\nOnce a month come and join us as we eat at diffe
 rent locally owned\, Akron-area restaurants. PLEASE RSVP to Julie LeFever 
 at jlefever@shawjcc.org at least one day in advance. Meet at the restaura
 nt at 11:30 a.m. on your own.\n\nOct. 9: Blue Door Café and Bakery\, 1970
  State Rd.\, Cuyahoga Falls\nNov. 13: Mustard Seed Market and Café\, 867 
 West Market St. (Highland Square)\nDec. 11: Dontino’s\, 555 E. Cuyahoga 
 Falls Ave.
DTSTART;TZID=America/New_York:20181009T113000
DTEND;TZID=America/New_York:20181009T133000
END:VEVENT
END:VCALENDAR
