BEGIN:VCALENDAR
PRODID:-//eluceo/ical//2.0/EN
VERSION:2.0
CALSCALE:GREGORIAN
BEGIN:VEVENT
UID:fc3ddc70fbbee6d87c08272ae4419dd0
DTSTAMP:20260421T095553Z
SUMMARY:Mandel ECE Closed
DESCRIPTION:Shaw JCC of Akron\nJCC Calendar\nhttps://shawjcc.org/jcccalenda
 r/mandel-ece-closed-1539705012\n\nMandel ECE Closed
DTSTART;TZID=America/New_York:20181225T070000
DTEND;TZID=America/New_York:20181225T235900
END:VEVENT
END:VCALENDAR
