BEGIN:VCALENDAR
PRODID:-//eluceo/ical//2.0/EN
VERSION:2.0
CALSCALE:GREGORIAN
BEGIN:VEVENT
UID:ea744fb289f67ee84966bca40d3e17ed
DTSTAMP:20260423T060653Z
SUMMARY:Mandel ECE Closed for Staff Training
DESCRIPTION:Shaw JCC of Akron\nJCC Calendar\nhttps://shawjcc.org/jcccalenda
 r/mandel-ece-closed-for-staff-training-282730\n\nMandel Early Childhood Ed
 ucation Center closed for staff training.
DTSTART;TZID=America/New_York:20180827T000000
DTEND;TZID=America/New_York:20180831T235959
END:VEVENT
END:VCALENDAR
