BEGIN:VCALENDAR
PRODID:-//eluceo/ical//2.0/EN
VERSION:2.0
CALSCALE:GREGORIAN
BEGIN:VEVENT
UID:df844e579a9cd5fd71550858d9049bf9
DTSTAMP:20260424T232343Z
SUMMARY:Mandel ECE Closes Early
DESCRIPTION:Shaw JCC of Akron\nJCC Calendar\nhttps://shawjcc.org/jcccalenda
 r/mandel-ece-closes-early-1539705254\n\nMandel ECE Closes at 3:00
DTSTART;TZID=America/New_York:20181231T150000
DTEND;TZID=America/New_York:20181231T235900
END:VEVENT
END:VCALENDAR
