BEGIN:VCALENDAR
PRODID:-//eluceo/ical//2.0/EN
VERSION:2.0
CALSCALE:GREGORIAN
BEGIN:VEVENT
UID:fb2c0fd0511ed18e135ed48ba8951663
DTSTAMP:20260423T093649Z
SUMMARY:Mandel ECE Early Closing
DESCRIPTION:Shaw JCC of Akron\nJCC Calendar\nhttps://shawjcc.org/jcccalenda
 r/mandel-ece-early-closing-1539704742\n\nThe Mandel ECE will be closing at
  3:00.
DTSTART;TZID=America/New_York:20181224T150000
DTEND;TZID=America/New_York:20181224T235900
END:VEVENT
END:VCALENDAR
