BEGIN:VCALENDAR
PRODID:-//eluceo/ical//2.0/EN
VERSION:2.0
CALSCALE:GREGORIAN
BEGIN:VEVENT
UID:53bbf44545b4e4e97fc47a3db4663e7d
DTSTAMP:20260420T204431Z
SUMMARY:Martial Arts with Zahand Martial Arts
DESCRIPTION:Shaw JCC of Akron\nJCC Calendar\nhttps://shawjcc.org/jcccalenda
 r/martial-arts-with-zahand-martial-arts-09192018\n\nBuilt around the tradi
 tional values of Martial arts training\, Zahand's Martial Arts class will 
 help your child learn important character traits they can carry with them 
 into all aspects of their lives. All experience levels welcome\, classes a
 re completely adaptable and suitable for everyone! As each student works 
 towards their belt progressions\, they are constantly developing physical 
 tools that translate into success in any number of activities. \n\nAges 4
 -6\, 4-4:45 p.m.\n\nAges 8-12\, 5-5:...
DTSTART;TZID=America/New_York:20181102T160000
DTEND;TZID=America/New_York:20181102T174500
END:VEVENT
END:VCALENDAR
