BEGIN:VCALENDAR
PRODID:-//eluceo/ical//2.0/EN
VERSION:2.0
CALSCALE:GREGORIAN
BEGIN:VEVENT
UID:d80d74ec0dadd6a94026956bc3954a8d
DTSTAMP:20260420T220118Z
SUMMARY:Men's Basketball League
DESCRIPTION:Shaw JCC of Akron\nJCC Calendar\nhttps://shawjcc.org/jcccalenda
 r/mens-basketball-league\n\nBe part of a competitive adult men’s basketb
 all league at the Shaw JCC! Fall session runs Sept. 11-Nov. 27\, 9-11 a.m.
  Ages 18+. Fee: $100 members/$135 guests. Call 330-867-7850 to register!
 \n\nQuestions? Call Rick Davis at 330-835-0053 or email rick_davis@shawjc
 c.org
DTSTART;TZID=America/New_York:20160911T083000
DTEND;TZID=America/New_York:20160911T113000
END:VEVENT
END:VCALENDAR
