BEGIN:VCALENDAR
PRODID:-//eluceo/ical//2.0/EN
VERSION:2.0
CALSCALE:GREGORIAN
BEGIN:VEVENT
UID:19ba169742adf6b58841398afa179449
DTSTAMP:20260422T004541Z
SUMMARY:Men's Basketball League
DESCRIPTION:Shaw JCC of Akron\nJCC Calendar\nhttps://shawjcc.org/jcccalenda
 r/mens-basketball-leaguemar31-305399\n\n(Ages 18+)\n\n12-Week Sunday Leagu
 e\n\nSundays\, March 31-June 23  8:30 a.m.-12:30 p.m.\n\nRegistration Dea
 dline: March 24\n\nCall 330-867-7850\, stop by the desk or visit www.shawj
 cc.org/ online-registration to register. Call Rick Davis at 330-835-0053 w
 ith questions.\n\nCost: $100 M/$135 G     602.19B ​
DTSTART;TZID=America/New_York:20190331T083000
DTEND;TZID=America/New_York:20190331T123000
END:VEVENT
END:VCALENDAR
