BEGIN:VCALENDAR
PRODID:-//eluceo/ical//2.0/EN
VERSION:2.0
CALSCALE:GREGORIAN
BEGIN:VEVENT
UID:8b72943f16eb360bedd3d4f626988ca9
DTSTAMP:20260424T085431Z
SUMMARY:Monthly Health Talks
DESCRIPTION:Shaw JCC of Akron\nJCC Calendar\nhttps://shawjcc.org/jcccalenda
 r/monthly-health-talks\n\nOnce-a-month at 10:45 a.m.\, local healthcare pr
 ofessionals will provide information on a variety of subjects. Great infor
 mation\, and a healthy snack will be served. \n\nOct. 15 A Guide to Healt
 hy\, Happy Feet\n\nNov. 19 Eat This Not That\n\nDec. 17 Healthy Holiday Ha
 bits\n\n 
DTSTART;TZID=America/New_York:20190219T104500
DTEND;TZID=America/New_York:20190219T114500
END:VEVENT
END:VCALENDAR
