BEGIN:VCALENDAR
PRODID:-//eluceo/ical//2.0/EN
VERSION:2.0
CALSCALE:GREGORIAN
BEGIN:VEVENT
UID:f2d2613cf80aa6969b27c13026133849
DTSTAMP:20260420T233936Z
SUMMARY:Movie at the J - Begin Again
DESCRIPTION:Shaw JCC of Akron\nJCC Calendar\nhttps://shawjcc.org/jcccalenda
 r/movie-at-the-j\n\nEnjoy a current\, first run movie in the quiet of the 
 Shaw JCC\, plus free popcorn! Closed captions provided. \n\nBegin Again: 
 Moving to New York City proves disastrous for a young singer after her boy
 friend yields to the temptation of another woman. But opportunity comes kn
 ocking when she meets a recently axed music producer looking to launch her
  career – and save his own. Free & open to the community.\n\n 
DTSTART;TZID=America/New_York:20170215T123000
DTEND;TZID=America/New_York:20170215T143000
END:VEVENT
END:VCALENDAR
