BEGIN:VCALENDAR
PRODID:-//eluceo/ical//2.0/EN
VERSION:2.0
CALSCALE:GREGORIAN
BEGIN:VEVENT
UID:c9c31e575d5388be246bb388fcafef18
DTSTAMP:20260421T000205Z
SUMMARY:Movie at the J - Whiskey Tango Foxtrot
DESCRIPTION:Shaw JCC of Akron\nJCC Calendar\nhttps://shawjcc.org/jcccalenda
 r/movie-at-the-j-whiskey\n\nMovie at the J - 3rd Wednesdays 12:30 p.m.\n\
 nEnjoy a current\, first run movie in the quiet of the Shaw JCC\, plus fre
 e popcorn! Closed captions provided. STARTING IN APRIL\, we are going to t
 ake a step back in time and enjoy some of the long-lost classics in film! 
 If you have a request\, let Rachel know! Free & open to community.\n\nMarc
 h 15 - Whiskey Tango Foxtrot\n\nBased on reporter Kim Barker's memoirs abo
 ut her experiences covering the Afghanistan war\, this satirical look at a
  hopelessly ...
DTSTART;TZID=America/New_York:20170315T123000
DTEND;TZID=America/New_York:20170315T143000
END:VEVENT
END:VCALENDAR
