BEGIN:VCALENDAR
PRODID:-//eluceo/ical//2.0/EN
VERSION:2.0
CALSCALE:GREGORIAN
BEGIN:VEVENT
UID:35e98869dc1a34265cf3c879f463a016
DTSTAMP:20260421T212055Z
SUMMARY:Movie Matinee at the J
DESCRIPTION:Shaw JCC of Akron\nJCC Calendar\nhttps://shawjcc.org/jcccalenda
 r/movie-matinee-at-the-j-3rdwed\n\nCome one\, come ALL! Enjoy a current\, 
 first run movie in the quiet of the Shaw JCC\, plus free popcorn! Closed c
 aptions provided. FREE.\n\nRequiem for the American Dream: A documentary i
 n which Noam Chomsky one of America's most respected and influential socia
 l theorists offers sobering insights on the nation's extreme economic ineq
 ualities.
DTSTART;TZID=America/New_York:20161116T123000
DTEND;TZID=America/New_York:20161116T143000
END:VEVENT
END:VCALENDAR
