BEGIN:VCALENDAR
PRODID:-//eluceo/ical//2.0/EN
VERSION:2.0
CALSCALE:GREGORIAN
BEGIN:VEVENT
UID:773c07b6c2916e55efc7494a5d79998a
DTSTAMP:20260420T102254Z
SUMMARY:Movie Matinee at the J
DESCRIPTION:Shaw JCC of Akron\nJCC Calendar\nhttps://shawjcc.org/jcccalenda
 r/movie-matinee-at-the-j-dec202017\n\nCome one come ALL! Enjoy a movie in 
 the quiet of the Shaw JCC\, plus free popcorn! Closed captions provided. F
 REE.\n\nJackie\n\nStill reeling from her husband's shocking assassination 
 in Dallas\, First Lady Jacqueline Kennedy battles through exhaustion\, ove
 rwhelming heartache and anger to preserve his legacy and to define her own
 . Starring Natalie Portman and Peter Saarsgaard.​
DTSTART;TZID=America/New_York:20171220T123000
DTEND;TZID=America/New_York:20171220T143000
END:VEVENT
END:VCALENDAR
