BEGIN:VCALENDAR
PRODID:-//eluceo/ical//2.0/EN
VERSION:2.0
CALSCALE:GREGORIAN
BEGIN:VEVENT
UID:360d6806f1fe59a2a2776bb97f69802c
DTSTAMP:20260424T170649Z
SUMMARY:Movie Matinee at the J
DESCRIPTION:Shaw JCC of Akron\nJCC Calendar\nhttps://shawjcc.org/jcccalenda
 r/movie-matinee-at-the-j-oct182017\n\nCome one come ALL! Enjoy a movie in 
 the quiet of the Shaw JCC\, plus free popcorn! Closed captions provided. F
 REE.\n\n20th Century Woman  \nIn 1979 Southern California\, bohemian sin
 gle mom Dorothea Fields looks to a pair of women from different generation
 s to help teach her teenage son lessons about love and life. But he gets a
 nother perspective after Dorothea takes in a male boarder. Starring Annett
 e Bening\, Elle Fanning and more.
DTSTART;TZID=America/New_York:20171018T123000
DTEND;TZID=America/New_York:20171018T143000
END:VEVENT
END:VCALENDAR
