BEGIN:VCALENDAR
PRODID:-//eluceo/ical//2.0/EN
VERSION:2.0
CALSCALE:GREGORIAN
BEGIN:VEVENT
UID:d9875c88b27756ee6a4f5dc96e081b10
DTSTAMP:20260421T135914Z
SUMMARY:Movie Matinee at The J
DESCRIPTION:Shaw JCC of Akron\nJCC Calendar\nhttps://shawjcc.org/jcccalenda
 r/movie-matinee-at-the-j-summer2018\n\nCome one come ALL! Enjoy a movie in
  the quiet of The J\, plus free popcorn! Closed captions provided. FREE\n\
 nJune 20: The Theory of Everything: With his body progressively ravaged by
  ALS\,world-famous physicist Stephen Hawking must rely on his wife\, Jane\
 , to continue his life’s work as he faces various challenges. This affec
 ting biographical drama centers on the couple’s fertile partnership. Sta
 rring Eddie Redmayne and Felicity Jones. Kumail Nanjiani\, Zoe Kazan\, Hol
 ly Hunter and Ray Romano...
DTSTART;TZID=America/New_York:20180418T123000
DTEND;TZID=America/New_York:20180418T143000
END:VEVENT
END:VCALENDAR
