BEGIN:VCALENDAR
PRODID:-//eluceo/ical//2.0/EN
VERSION:2.0
CALSCALE:GREGORIAN
BEGIN:VEVENT
UID:4569cc798f3a86aefb2520a54016722b
DTSTAMP:20260422T173514Z
SUMMARY:Movie Matinee: "Green Book"
DESCRIPTION:Shaw JCC of Akron\nJCC Calendar\nhttps://shawjcc.org/jcccalenda
 r/movie-matinee-green-book\n\nJoin us 12:30 p.m. for a free movie (AND POP
 CORN!) at Center Towers.\n\n"Green Book"\n\nDr. Don Shirley (Mahershala Al
 i) is a world-class African-American pianist\, who is about to embark on a
  concert tour in the Deep South in 1962. In need of a driver and protectio
 n\, Shirley recruits Tony Lip (Viggo Mortensen)\, a tough-talking bouncer 
 from an Italian-American neighborhood in the Bronx. Despite their differen
 ces\, the two soon develop an unexpected bond while confronting racism and
  danger in an...
DTSTART;TZID=America/New_York:20190515T123000
DTEND;TZID=America/New_York:20190515T144000
END:VEVENT
END:VCALENDAR
