BEGIN:VCALENDAR
PRODID:-//eluceo/ical//2.0/EN
VERSION:2.0
CALSCALE:GREGORIAN
BEGIN:VEVENT
UID:b1acacb598c6891830328d90ee9d3bdb
DTSTAMP:20260423T034440Z
SUMMARY:Movie Matinee: Once Upon a Time in Hollywood
DESCRIPTION:Shaw JCC of Akron\nJCC Calendar\nhttps://shawjcc.org/jcccalenda
 r/movie-matinee-once-upon-a-time-in-hollywood\n\nJoin us at 1 pm for a fre
 e movie and popcorn! Relax\, sit back and enjoy the show!\n\nONCE UPON A T
 IME IN HOLLYWOOD\n\nOnce Upon a Time in Hollywood follows an actor and his
  stunt double as they navigate the changing film industry\, and features 
 “multiple storylines in a modern fairy tale tribute to the final moments
  of Hollywood’s golden age.” Voted by Time Magazine as one of the ten 
 best films of 2019. Starring Leonardo DiCaprio\, Brad Pitt and Al Pacino. 
 2 hr. 39 min.
DTSTART;TZID=America/New_York:20200115T130000
DTEND;TZID=America/New_York:20200115T153000
END:VEVENT
END:VCALENDAR
