BEGIN:VCALENDAR
PRODID:-//eluceo/ical//2.0/EN
VERSION:2.0
CALSCALE:GREGORIAN
BEGIN:VEVENT
UID:6c82f75f20ec6f3908e344c204dd3ea6
DTSTAMP:20260424T052246Z
SUMMARY:Music with Mr. Jeff
DESCRIPTION:Shaw JCC of Akron\nJCC Calendar\nhttps://shawjcc.org/jcccalenda
 r/music-with-mr-jeff-1546529683\n\nChildren will join our musical "mad man
 " Mr. Jeff for an intro to do-re-mi complete with sing-a-longs\, beats and
  rhythms\, children's Jewish songs and some silly songwriting too!
DTSTART;TZID=America/New_York:20190117T161500
DTEND;TZID=America/New_York:20190117T170000
END:VEVENT
END:VCALENDAR
