BEGIN:VCALENDAR
PRODID:-//eluceo/ical//2.0/EN
VERSION:2.0
CALSCALE:GREGORIAN
BEGIN:VEVENT
UID:fa88d26b7ae8e3da232a9da7b2e3d85c
DTSTAMP:20260422T132628Z
SUMMARY:Music With Mr. Jeff
DESCRIPTION:Shaw JCC of Akron\nJCC Calendar\nhttps://shawjcc.org/jcccalenda
 r/music-with-mr-jeff-april11\n\nAges 2 ½-5\n\n401.Mus4\n\nThursdays\, Apr
 . 11- May 30\, 4:15-5 p.m. \n\nCost: $55 Member/$65 Guest \n\nChildren wi
 ll join our musical “mad man” Mr. Jeff for an intro to do-re-mi comple
 te with sing-a-longs\, beats and rhythms\, children’s Jewish songs\, and
  some silly song writing too! 
DTSTART;TZID=America/New_York:20190411T161500
DTEND;TZID=America/New_York:20190411T170000
END:VEVENT
END:VCALENDAR
