BEGIN:VCALENDAR
PRODID:-//eluceo/ical//2.0/EN
VERSION:2.0
CALSCALE:GREGORIAN
BEGIN:VEVENT
UID:ddbf26659aabf719679c27ba94142aea
DTSTAMP:20260423T041806Z
SUMMARY:Music with Mr. Jeff
DESCRIPTION:Shaw JCC of Akron\nJCC Calendar\nhttps://shawjcc.org/jcccalenda
 r/music-with-mr-jeffjanfebmar\n\nChildren will join our musical “mad man
 ” Mr. Jeff for an introduction to all things music.\n\nStudents will enj
 oy:\n\nDo-re-mi intro\n\nSing-a-longs\n\nBeats and rhythms\n\nChildren's J
 ewish songs\n\nSilly songwriting too!\n\nAges: 21/2-5 years\n\nThurs.\, Ja
 n. 16\,23\,30 Feb. 6\,13\,20\,27 March 5\n\nCost: $60/M $90/G\n\n401.MUS
DTSTART;TZID=America/New_York:20200116T161500
DTEND;TZID=America/New_York:20200116T170000
END:VEVENT
END:VCALENDAR
