BEGIN:VCALENDAR
PRODID:-//eluceo/ical//2.0/EN
VERSION:2.0
CALSCALE:GREGORIAN
BEGIN:VEVENT
UID:d6b24557e2c8172c1cba47c9d6d6c344
DTSTAMP:20260421T173512Z
SUMMARY:Open Swim Night: Corporate Member
DESCRIPTION:Shaw JCC of Akron\nJCC Calendar\nhttps://shawjcc.org/jcccalenda
 r/open-swim-night-corporate-memberaugust22\n\nIf your company or organizat
 ion participates in our Corporate Member Program\, we invite you and your 
 family to be our guest and enjoy a FREE swim and facility tour. If you dec
 ide to join The J\, you will save up to $200 in the initial year of your m
 embership and enjoy year-round access to all the Shaw JCC programs and ser
 vices and amenities offered including indoor and outdoor pools\, full-serv
 ice fitness center\, discounted personal training and massage\, more than 
 80 FREE group fitness classes ...
DTSTART;TZID=America/New_York:20190822T180000
DTEND;TZID=America/New_York:20190822T194500
END:VEVENT
END:VCALENDAR
