BEGIN:VCALENDAR
PRODID:-//eluceo/ical//2.0/EN
VERSION:2.0
CALSCALE:GREGORIAN
BEGIN:VEVENT
UID:4720e9074399ee59de8a6479d13cac0b
DTSTAMP:20260422T174012Z
SUMMARY:Open Swim Night: West Akron Baseball League
DESCRIPTION:Shaw JCC of Akron\nJCC Calendar\nhttps://shawjcc.org/jcccalenda
 r/open-swim-night-west-akron-baseball-league\n\nWABL families are invited 
 to be our guests at the outdoor pool! Enjoy family fun and FREE giveaways.
  Open to members and guests. Members who refer friends who join will recei
 ve a $25 gift card to be used toward Shaw JCC programs and services. No RS
 VP required. Please note: Children must be supervised by an adult (Ages 18
 +). Any food brought into the door pool must be kosher (no meat). Guests 
 are required to sign and complete a waiver at check-in. Event will be held
  weather permitting (no rai...
DTSTART;TZID=America/New_York:20190829T180000
DTEND;TZID=America/New_York:20190829T194500
END:VEVENT
END:VCALENDAR
