BEGIN:VCALENDAR
PRODID:-//eluceo/ical//2.0/EN
VERSION:2.0
CALSCALE:GREGORIAN
BEGIN:VEVENT
UID:d0a4016241c52166e113fa0d2063f416
DTSTAMP:20260420T134155Z
SUMMARY:Open Swim Night: West Akron Baseball League (WABL)
DESCRIPTION:Shaw JCC of Akron\nJCC Calendar\nhttps://shawjcc.org/jcccalenda
 r/open-swim-night-west-akron-baseball-league-wabl\n\nWABL families are inv
 ited to be our guests at the outdoor pool! Enjoy family fun and FREE givea
 ways. Open to members and guests. Members who refer friends who join will 
 receive a $25 gift card to be used toward Shaw JCC programs and services. 
 No RSVP required. Please note: Children must be supervised by an adult (ag
 es 18+). Any food brought into the outdoor pool area must be kosher (no me
 ant). Guests are required to sign and complete a waiver at check-in. Event
  will be held weather permitting...
DTSTART;TZID=America/New_York:20190725T180000
DTEND;TZID=America/New_York:20190725T194500
END:VEVENT
END:VCALENDAR
