BEGIN:VCALENDAR
PRODID:-//eluceo/ical//2.0/EN
VERSION:2.0
CALSCALE:GREGORIAN
BEGIN:VEVENT
UID:13c4870f27473d2ddff787582a2600e0
DTSTAMP:20260421T101509Z
SUMMARY:Paint Play
DESCRIPTION:Shaw JCC of Akron\nJCC Calendar\nhttps://shawjcc.org/jcccalenda
 r/paint-play-01162018\n\nOur own resident art specialist Ms. Mellissa will
  meet with children weekly to learn creative painting techniques as well a
 s color mixing and to use basic shapes. Children will be painting with the
 ir fingers\, objects\, fruit and more!
DTSTART;TZID=America/New_York:20180116T131500
DTEND;TZID=America/New_York:20180116T140000
END:VEVENT
END:VCALENDAR
