BEGIN:VCALENDAR
PRODID:-//eluceo/ical//2.0/EN
VERSION:2.0
CALSCALE:GREGORIAN
BEGIN:VEVENT
UID:93b9b44f20921c1f1d96538ca3caf733
DTSTAMP:20260422T201309Z
SUMMARY:Paint Play
DESCRIPTION:Shaw JCC of Akron\nJCC Calendar\nhttps://shawjcc.org/jcccalenda
 r/paint-play-10022018\n\nAges 2½-5 years\n\nOur own resident art speciali
 st\, Ms. Mellissa will meet with children weekly to learn creative paintin
 g techniques as well as color mixing. Children will be painting with their
  fingers\, objects\, fruit and more!\n\nClass runs Oct. 2-Nov. 20 
DTSTART;TZID=America/New_York:20181002T131500
DTEND;TZID=America/New_York:20181002T140000
END:VEVENT
END:VCALENDAR
