BEGIN:VCALENDAR
PRODID:-//eluceo/ical//2.0/EN
VERSION:2.0
CALSCALE:GREGORIAN
BEGIN:VEVENT
UID:7fadd3419218d8bb9d7db4b55123926d
DTSTAMP:20260425T125431Z
SUMMARY:Paint Play with Ms. Mellissa
DESCRIPTION:Shaw JCC of Akron\nJCC Calendar\nhttps://shawjcc.org/jcccalenda
 r/paint-play-with-ms-mellissa\n\nOur own resident art specialist Ms. Melli
 ssa will meet with children weekly to learn creative painting techniques a
 s well as color mixing and how to use basic shapes. Children will be paint
 ing with their fingers\, objects\, fruit and more! \n\nTuesdays\, Oct. 22
  & 29\; Nov. 5\, 12 & 19\, 26 and  Dec. 3 & 10 1:15-2 p.m.\n\nAges 2 ½-
  5   \n\nCost: $65 M/$75 G 401.PP\n\n 
DTSTART;TZID=America/New_York:20191022T131500
DTEND;TZID=America/New_York:20191022T140000
END:VEVENT
END:VCALENDAR
