BEGIN:VCALENDAR
PRODID:-//eluceo/ical//2.0/EN
VERSION:2.0
CALSCALE:GREGORIAN
BEGIN:VEVENT
UID:38058ae1679ba245723edcaabd2d97d1
DTSTAMP:20260425T170548Z
SUMMARY:Paint Play with Ms. Mellissa
DESCRIPTION:Shaw JCC of Akron\nJCC Calendar\nhttps://shawjcc.org/jcccalenda
 r/paint-play-with-ms-mellissajanfebmar\n\nChildren will learn creative pai
 nting techniques as well as color mixing and how to use basic shapes. Chil
 dren paint with their fingers\, objects\, fruit and more! \n\nTuesdays\,\
 n\nJan. 14\,21\,28\n\nFeb. 4\,11\,18\,25\n\nMarch 3\n\nAges 21/2-5\n\nCost
 : $60/M $90/G\n\n401.PP
DTSTART;TZID=America/New_York:20200114T130000
DTEND;TZID=America/New_York:20200114T134500
END:VEVENT
END:VCALENDAR
