BEGIN:VCALENDAR
PRODID:-//eluceo/ical//2.0/EN
VERSION:2.0
CALSCALE:GREGORIAN
BEGIN:VEVENT
UID:ecf62b5655a265e38c3c4887cc35dc57
DTSTAMP:20260423T055954Z
SUMMARY:Parents' Night Out
DESCRIPTION:Shaw JCC of Akron\nJCC Calendar\nhttps://shawjcc.org/jcccalenda
 r/parents-night-out\n\n
DTSTART;TZID=America/New_York:20170401T180000
DTEND;TZID=America/New_York:20170401T213000
END:VEVENT
END:VCALENDAR
