BEGIN:VCALENDAR
PRODID:-//eluceo/ical//2.0/EN
VERSION:2.0
CALSCALE:GREGORIAN
BEGIN:VEVENT
UID:72aaf3ef3904b9e0a83cb0d83ceff3c2
DTSTAMP:20260422T002415Z
SUMMARY:Parents' Night Out
DESCRIPTION:Shaw JCC of Akron\nJCC Calendar\nhttps://shawjcc.org/jcccalenda
 r/parents-night-out-12152018\n\nParents\, take a break and send your kids 
 (ages 4-12) for a Saturday night out at The J. Offered once per month (Sep
 tember-May) and supervised by our own KidSpace and Camp Staff. Children ca
 n look forward to fun crafts projects\, cooking\, sports and games. After 
 a yummy pizza and veggie dinner\, we will watch a great kids movie on our 
 big screen.\n\nNEW! The Mandel ECE and Ms. Lisa will be offering Parents' 
 Night Out to infants through Pre-K. All proceeds for this age group go dir
 ectly to fund E...
DTSTART;TZID=America/New_York:20181215T173000
DTEND;TZID=America/New_York:20181215T213000
END:VEVENT
END:VCALENDAR
