BEGIN:VCALENDAR
PRODID:-//eluceo/ical//2.0/EN
VERSION:2.0
CALSCALE:GREGORIAN
BEGIN:VEVENT
UID:bc6f03f3b4bce35fd967ab01bc7d8f4d
DTSTAMP:20260422T021718Z
SUMMARY:Parents' Night Out
DESCRIPTION:Shaw JCC of Akron\nJCC Calendar\nhttps://shawjcc.org/jcccalenda
 r/parents-night-out-1499088820\n\nSaturday\, Sept. 16 5:30-9:30 p.m.\nAges
 : 4-12 Cost: $21 M/$25 G\, all siblings $18\nEveryone enjoys a Night Out! 
 Parents\, take a break and send your kids (ages 4-12) for a Saturday night
  out at the J. Offered once per month (Sept. through May) and supervised b
 y our own KidSpace and Camp Staff. Children can look forward to fun crafts
  projects\, cooking\, sports and games. After a yummy pizza and veggie din
 ner\, we will watch a great kids’ movie on our big screen.\n*Fee is base
 d on minimum 24-hou...
DTSTART;TZID=America/New_York:20170916T173000
DTEND;TZID=America/New_York:20170916T213000
END:VEVENT
END:VCALENDAR
