BEGIN:VCALENDAR
PRODID:-//eluceo/ical//2.0/EN
VERSION:2.0
CALSCALE:GREGORIAN
BEGIN:VEVENT
UID:63ab2cc873e3816756b25a7b8db6c56d
DTSTAMP:20260420T235446Z
SUMMARY:Parents' Night Out
DESCRIPTION:Shaw JCC of Akron\nJCC Calendar\nhttps://shawjcc.org/jcccalenda
 r/parents-night-out-feb23\n\nSaturday\, Jan. 26\, 6-10 p.m. (special Winte
 r Bash hours until conclusion of event). 200.PNO119\n\n \n\nSaturday\, Fe
 b. 23\, 5:30-9:30 p.m. (includes first half-hour swim time) 200.PNO223\n\n
  \n\nSaturday\, Mar. 16\, 5:30-9:30 p.m. 200.PNO39\n\n \n\nCost: $20 M/$
 25 G per night\, all siblings $18 Fee is based on minimum 24-hour registra
 tion. Add extra $5 without reservation (must be paid after sundown at pick
 -up time).\n\n \n\nTo register\, please email afox@shawjcc.org or visit w
 ww.shawjcc. org....
DTSTART;TZID=America/New_York:20190223T173000
DTEND;TZID=America/New_York:20190223T210000
END:VEVENT
END:VCALENDAR
