BEGIN:VCALENDAR
PRODID:-//eluceo/ical//2.0/EN
VERSION:2.0
CALSCALE:GREGORIAN
BEGIN:VEVENT
UID:4d7f0a373784a91628db02eb98be403f
DTSTAMP:20260422T040852Z
SUMMARY:Parents' Night Out
DESCRIPTION:Shaw JCC of Akron\nJCC Calendar\nhttps://shawjcc.org/jcccalenda
 r/parents-night-out-march16\n\nSaturday\, Jan. 26\, 6-10 p.m. (special Win
 ter Bash hours until conclusion of event). 200.PNO119\n\n \n\nSaturday\, 
 Feb. 23\, 5:30-9:30 p.m. (includes first half-hour swim time) 200.PNO223\n
 \n \n\nSaturday\, Mar. 16\, 5:30-9:30 p.m. 200.PNO39\n\n \n\nCost: $20 M
 /$25 G per night\, all siblings $18 Fee is based on minimum 24-hour regist
 ration. Add extra $5 without reservation (must be paid after sundown at pi
 ck-up time).\n\n \n\nTo register\, please email afox@shawjcc.org or visit
  www.shawjcc. org....
DTSTART;TZID=America/New_York:20190316T173000
DTEND;TZID=America/New_York:20190316T213000
END:VEVENT
END:VCALENDAR
