BEGIN:VCALENDAR
PRODID:-//eluceo/ical//2.0/EN
VERSION:2.0
CALSCALE:GREGORIAN
BEGIN:VEVENT
UID:a75b3f3860de24f948ba4af2bf597695
DTSTAMP:20260423T183439Z
SUMMARY:Pediatric First Aid\, CPR & AED Course
DESCRIPTION:Shaw JCC of Akron\nJCC Calendar\nhttps://shawjcc.org/jcccalenda
 r/pediatric-first-aid-cpr-aed-course-315618\n\nThis course will prepare yo
 u to recognize and care for a variety of first aid\, breathing\, and cardi
 ac emergencies involving children and infants. This blended learning cours
 e includes an online portion and an instructor-led classroom skill session
 . \n\n\nThe online part must be completed before attending the in-class p
 ortion and must be taken on a PC or tablet with a high-speed internet conn
 ection. Allow approximately 2 hours\, 30 minutes to complete the online po
 rtion.   \n\nUpon successfu...
DTSTART;TZID=America/New_York:20191003T180000
DTEND;TZID=America/New_York:20191003T193000
END:VEVENT
END:VCALENDAR
