BEGIN:VCALENDAR
PRODID:-//eluceo/ical//2.0/EN
VERSION:2.0
CALSCALE:GREGORIAN
BEGIN:VEVENT
UID:23db3270bbe06317cc2c28bca278bfcb
DTSTAMP:20260424T215719Z
SUMMARY:Pickleball Demonstration
DESCRIPTION:Shaw JCC of Akron\nJCC Calendar\nhttps://shawjcc.org/jcccalenda
 r/pickleball-demonstration-nov152017\n\nCome play the game that is sweepin
 g the nation! Pickleball is a racquet sport which combines elements of bad
 minton\, tennis and table tennis. Learn the game with Pickleball expert An
 drea Minster! Read the official rules before you play. 
DTSTART;TZID=America/New_York:20171115T101500
DTEND;TZID=America/New_York:20171115T120000
END:VEVENT
END:VCALENDAR
