BEGIN:VCALENDAR
PRODID:-//eluceo/ical//2.0/EN
VERSION:2.0
CALSCALE:GREGORIAN
BEGIN:VEVENT
UID:29ba5af6c114eb26d9389759f613507e
DTSTAMP:20260424T151228Z
SUMMARY:Pickleball Open Play
DESCRIPTION:Shaw JCC of Akron\nJCC Calendar\nhttps://shawjcc.org/jcccalenda
 r/pickleball-open-play-04062018\n\nCome play the game that is sweeping the
  nation! Join us as we watch\, learn and play. Pickleball is a racquet sp
 ort which combines elements of badminton\, tennis\, and table tennis. Op
 en Play Days & Times in the Gymnasium:\n\nMondays & Wednesdays: 9-11:30 a.
 m.\nFridays: 10-11:30 a.m.\nSaturdays\, 11 a.m.-1 p.m.\n\nFor Pickleball e
 quipment\, stop by the Sports Fitness Service Desk. Cost: Free Member/$5 G
 uest.\nFor more information\, call 330-867-7850 or email Janice Epstein a
 t jepstein@shawjcc.o...
DTSTART;TZID=America/New_York:20180406T100000
DTEND;TZID=America/New_York:20180406T113000
END:VEVENT
END:VCALENDAR
