BEGIN:VCALENDAR
PRODID:-//eluceo/ical//2.0/EN
VERSION:2.0
CALSCALE:GREGORIAN
BEGIN:VEVENT
UID:2e326314a5cabecb6ad711ba6200a218
DTSTAMP:20260419T184528Z
SUMMARY:Pilates
DESCRIPTION:Shaw JCC of Akron\nJCC Calendar\nhttps://shawjcc.org/jcccalenda
 r/pilates-thurs\n\nFREE for J members! The Advanced Pilates class will st
 rengthen your “powerhouse” core muscles while increasing flexibility a
 nd postural alignment awareness. Pilates Versa Tubes and Pilates Rings wil
 l be featured to provide targeted resistance for abdominal and back muscle
 s. Improve strength\, postural alignment\, balance and coordination. (Inte
 rmediate and Above) 
DTSTART;TZID=America/New_York:20161201T081500
DTEND;TZID=America/New_York:20161201T091500
END:VEVENT
END:VCALENDAR
