BEGIN:VCALENDAR
PRODID:-//eluceo/ical//2.0/EN
VERSION:2.0
CALSCALE:GREGORIAN
BEGIN:VEVENT
UID:bf41f4e5352540c98f8c1a2d88070e26
DTSTAMP:20260420T232116Z
SUMMARY:PiYo
DESCRIPTION:Shaw JCC of Akron\nJCC Calendar\nhttps://shawjcc.org/jcccalenda
 r/piyo-11062017\n\nFREE for J members! A combination of yoga poses with Pi
 lates to build core strength & enhance agility & balance. (All Levels)
DTSTART;TZID=America/New_York:20171106T193000
DTEND;TZID=America/New_York:20171106T201500
END:VEVENT
END:VCALENDAR
